BEGIN:VCALENDAR
VERSION:2.0
PRODID:icalendar-ruby
CALSCALE:GREGORIAN
METHOD:PUBLISH
BEGIN:VEVENT
DTSTAMP:20260424T123044Z
UID:a13decf9-e6a1-4658-9b1b-1294a249e70b
DTSTART:20260524T000000
DTEND:20260524T235900
CLASS:PUBLIC
CREATED:20260109T144637
DESCRIPTION:The Dojo is closed for the Memorial Day Weekend
LAST-MODIFIED:20260109T144637
LOCATION:Takahashi Dojo
SUMMARY:Takahashi Dojo Closed - Memorial Day Weekend
URL:http://www.takahashidojo.com/events/165
END:VEVENT
END:VCALENDAR
