BEGIN:VCALENDAR
VERSION:2.0
PRODID:icalendar-ruby
CALSCALE:GREGORIAN
METHOD:PUBLISH
BEGIN:VEVENT
DTSTAMP:20260425T130234Z
UID:8dd0b457-d172-4442-bbbe-08d92db69b14
DTSTART:20260525T000000
DTEND:20260525T235900
CLASS:PUBLIC
CREATED:20260109T144717
DESCRIPTION:The Dojo is closed for the Memorial Day Weekend
LAST-MODIFIED:20260109T144717
LOCATION:Takahashi Dojo
SUMMARY:Takahashi Dojo Closed - Memorial Day Weekend
URL:http://www.takahashidojo.com/events/166
END:VEVENT
END:VCALENDAR
